BEGIN:VCALENDAR
VERSION:2.0
PRODID:-//wp-events-plugin.com//7.2.3.1//EN
TZID:Europe/Madrid
X-WR-TIMEZONE:Europe/Madrid
BEGIN:VEVENT
UID:0-157@vives.org
DTSTART;TZID=Europe/Madrid:20210114T120000
DTEND;TZID=Europe/Madrid:20210114T123000
DTSTAMP:20201223T084518Z
URL:https://www.vives.org/esdeveniments/acte-de-lliurament-del-premi-cum-l
 aude/
SUMMARY:Lliurament del premi Cum Laude
DESCRIPTION:La Universitat Jaume I acollirà l'acte de lliurament del premi
  Cum Laude a l'obra guanyadora de l'edició 2017 que premia les tesis doct
 orals d'alt nivell escrites en català en la modalitat d'Humanitats.\n\nL'
 acte es podrà seguir en línia.
CATEGORIES:Actes
LOCATION:Rectorat de la Universitat Jaume I\, Rectorat de la Universitat Ja
 ume I\, Castelló\, Castelló\, 12071\, Espanya
GEO:39.995426;-0.068396
X-APPLE-STRUCTURED-LOCATION;VALUE=URI;X-ADDRESS=Rectorat de la Universitat 
 Jaume I\, Castelló\, Castelló\, 12071\, Espanya;X-APPLE-RADIUS=100;X-TIT
 LE=Rectorat de la Universitat Jaume I:geo:39.995426,-0.068396
END:VEVENT
BEGIN:VTIMEZONE
TZID:Europe/Madrid
X-LIC-LOCATION:Europe/Madrid
BEGIN:STANDARD
DTSTART:20201025T020000
TZOFFSETFROM:+0200
TZOFFSETTO:+0100
TZNAME:CET
END:STANDARD
END:VTIMEZONE
END:VCALENDAR