BEGIN:VCALENDAR
VERSION:2.0
PRODID:-//wp-events-plugin.com//7.2.3.1//EN
TZID:Europe/Madrid
X-WR-TIMEZONE:Europe/Madrid
BEGIN:VEVENT
UID:0-251@vives.org
DTSTART;TZID=Europe/Madrid:20221103T090000
DTEND;TZID=Europe/Madrid:20221103T150000
DTSTAMP:20221024T062804Z
URL:https://www.vives.org/esdeveniments/jornada-forum-vives-emergencia-cli
 matica-a-la-mediterrania-simulacio-universitaria-de-la-cop27/
SUMMARY:Jornada Fòrum Vives "Emergència climàtica a la Mediterrània. Si
 mulació universitària de la COP27"
DESCRIPTION:El 3 de novembre\, PRIMA i la Xarxa Vives d’Universitats impu
 lsen de manera pionera la primera SIMULACIÓ DE PAVELLÓ MEDITERRANI adre
 çada a estudiantat universitari. L’objectiu és facilitar la presa de c
 onsciència de l’alumnat sobre les necessitats urgents d’adaptar-se i 
 mitigar el canvi climàtic\, i que el canvi climàtic afecta per igual els
  països del nord i del sud de la Mediterrània.\n\nLa jornada tindrà llo
 c a l'Aula Magna de l'edifici històric de la Universitat de Barcelona.\n\
 nPrograma
CATEGORIES:Fòrum Vives
LOCATION:Universitat de Barcelona\, Gran Via de les Corts Catalanes\, 585\,
  Barcelona\, 
GEO:41.386871;2.164639
X-APPLE-STRUCTURED-LOCATION;VALUE=URI;X-ADDRESS=Gran Via de les Corts Catal
 anes\, 585\, Barcelona\, ;X-APPLE-RADIUS=100;X-TITLE=Universitat de Barcel
 ona:geo:41.386871,2.164639
END:VEVENT
BEGIN:VTIMEZONE
TZID:Europe/Madrid
X-LIC-LOCATION:Europe/Madrid
BEGIN:STANDARD
DTSTART:20221030T020000
TZOFFSETFROM:+0200
TZOFFSETTO:+0100
TZNAME:CET
END:STANDARD
END:VTIMEZONE
END:VCALENDAR