BEGIN:VCALENDAR
VERSION:2.0
PRODID:-//wp-events-plugin.com//7.2.3.1//EN
TZID:Europe/Madrid
X-WR-TIMEZONE:Europe/Madrid
BEGIN:VEVENT
UID:0-362@vives.org
DTSTART;TZID=Europe/Madrid;VALUE=DATE:20250307
DTEND;TZID=Europe/Madrid;VALUE=DATE:20250308
DTSTAMP:20250109T110510Z
URL:https://www.vives.org/esdeveniments/lliga-de-debat-de-secundaria-i-bat
 xillerat-fase-local-udg-3/
SUMMARY:​Lliga de Debat de Secundària i Batxillerat – Fase local UdG
DESCRIPTION:\n\nLa Lliga de Debat de Secundària i Batxillerat (LDSB) és 
 una competició en la qual diversos equips d’estudiants de 4t d’ESO\, 
 Batxillerat i Formació Professional de diferents centres docents debaten 
 sobre un tema polèmic i d’actualitat.\n\nLa Lliga consta d’una fase e
 liminatòria i d’una final. L’eliminatòria es disputa entre els equip
 s dels centres inscrits a una mateixa universitat\, que serà qui acollir
 à la competició. Enguany\, la fase eliminatòria de la Universitat de Gi
 rona es realitzarà el dia 7 de març.\n\nL’equip guanyador de cadascuna
  de les eliminatòries locals passarà a la final absoluta\, que tindrà l
 loc a la Universitat de Vic - Universitat Central de Catalunya\, del 2 al
  4 d'abril de 2025.\n\n
CATEGORIES:Lliga de Debat
LOCATION:Universitat de Girona\, Plaça Sant Domènec\, 3\, Girona\, 
GEO:41.985916;2.827210
X-APPLE-STRUCTURED-LOCATION;VALUE=URI;X-ADDRESS=Plaça Sant Domènec\, 3\, 
 Girona\, ;X-APPLE-RADIUS=100;X-TITLE=Universitat de Girona:geo:41.985916,2
 .827210
END:VEVENT
BEGIN:VTIMEZONE
TZID:Europe/Madrid
X-LIC-LOCATION:Europe/Madrid
BEGIN:STANDARD
DTSTART:20241027T020000
TZOFFSETFROM:+0200
TZOFFSETTO:+0100
TZNAME:CET
END:STANDARD
END:VTIMEZONE
END:VCALENDAR