BEGIN:VCALENDAR
VERSION:2.0
PRODID:-//wp-events-plugin.com//7.2.3.1//EN
TZID:Europe/Madrid
X-WR-TIMEZONE:Europe/Madrid
BEGIN:VEVENT
UID:0-260@vives.org
DTSTART;TZID=Europe/Madrid;VALUE=DATE:20230130
DTEND;TZID=Europe/Madrid;VALUE=DATE:20230204
DTSTAMP:20230111T095454Z
URL:https://www.vives.org/esdeveniments/lliga-de-debat-de-secundaria-i-bat
 xillerat-fase-local-uji/
SUMMARY:Lliga de Debat de Secundària i Batxillerat – Fase local UJI
DESCRIPTION:La Lliga de Debat de Secundària i Batxillerat (LDSB) és una 
 competició en la qual diversos equips d’estudiants de 4t d’ESO\, Batx
 illerat i Formació Professional de diferents centres docents debaten sobr
 e un tema polèmic i d’actualitat.\n\nLa Lliga consta d’una fase elimi
 natòria i d’una final. L’eliminatòria es disputa entre els equips de
 ls centres inscrits a una mateixa universitat\, que serà qui acollirà la
  competició. Enguany\, la fase eliminatòria de la Universitat Jaume I es
  realitzarà del 30 de gener al 3 de febrer.\n\nL’equip guanyador de cad
 ascuna de les eliminatòries locals passarà a la final absoluta\, que tin
 drà lloc a la Universitat de València\, del 22 al 24 de març de 2023.
CATEGORIES:Lliga de Debat
END:VEVENT
BEGIN:VTIMEZONE
TZID:Europe/Madrid
X-LIC-LOCATION:Europe/Madrid
BEGIN:STANDARD
DTSTART:20221030T020000
TZOFFSETFROM:+0200
TZOFFSETTO:+0100
TZNAME:CET
END:STANDARD
END:VTIMEZONE
END:VCALENDAR