BEGIN:VCALENDAR
VERSION:2.0
PRODID:-//wp-events-plugin.com//7.2.3.1//EN
TZID:Europe/Madrid
X-WR-TIMEZONE:Europe/Madrid
BEGIN:VEVENT
UID:0-241@vives.org
DTSTART;TZID=Europe/Madrid:20220917T120000
DTEND;TZID=Europe/Madrid:20220917T130000
DTSTAMP:20220719T074110Z
URL:https://www.vives.org/esdeveniments/presentacio-de-les-obres-guanyador
 es-del-premi-joan-lluis-vives-2022/
SUMMARY:Presentació de les obres guanyadores dels Premis Joan Lluís Vives
  2022
DESCRIPTION:Les obres guanyadores dels premis Joan Lluís Vives a l’edic
 ió universitària 2022 es presentaran dissabte 17 de setembre en el marc 
 de la  la Setmana del Llibre en Català a l'escenari 2 del Moll de la Fu
 sta.\n\nAquesta edició\, les obres guardonades són:\n\n\n\n\n\n 	Premi a
  la millor edició:\n\n“Flora medicinal de les illes Balears”\, de Ca
 rles Amengual i Vicens (Edicions de la Universitat de les Illes Balears)\n
 \nEn el volum Flora Medicinal de les illes Balears\, del doctor Carles Am
 engual i Vicens\, s’analitzen els estudis sobre flora medicinal del temp
 s dels clàssics grecs i llatins —Hipòcrates\, Teofrast\, Galè\, Diosc
 òrides\, Plini—\, àrabs —Ibn Sina—\, així com també de la flora 
 medicinal balear\, medievals i moderns fins al segle XXI —des de Ramon L
 lull fins a Brotat et Terrers\, Cursach i Arguimbau\, Barceló i Combis\, 
 Bianor\, Palau i Ferrer\, Bonafè i Barceló\, etc. També s’ha recollit
  la presència d’aquestes espècies en la literatura i cultura popular d
 e les Illes Balears\, en un gran treball de recerca i divulgació.\n\nMés
  informació…\n\n\n\n\n\n 	Premi a la millor coedició interxarxa:\n\n
 “Guia de la València del primer franquisme”\, de Juan Salazar\, Lucil
 a Aragó i José María Azkárraga (Editorial de la Universitat Politècni
 ca de València i Publicacions de la Universitat de València)\n\nQuè va 
 suposar la victòria franquista a la Guerra Civil i quin paper hi va tenir
  la societat valenciana? La publicació de Juan Salazar\, Lucila Aragó i 
 José María Azkárraga planteja un recorregut històric per la València 
 de la postguerra\, a partir de diferents perspectives: des d’àmbits com
  l’arquitectònic\, l’urbanístic i el laboral fins al món de l’edu
 cació\, la sanitat o la cultura. A més\, compta amb abundants imatges de
  llocs icònics de la ciutat\, com els espais de la repressió i de l’ex
 altació franquista\, a més de mapes inèdits de la ciutat d’aquells an
 ys\, així com testimonis diversos\, com ara de persones que van viure la 
 repressió a les presons valencianes.\n\nMés informació…\n\n\n\n\n\n 	
 Premi al millor llibre de ciència i tecnologia:\n\n“Hereta’t. Com inf
 lueixen el nostre comportament els gens i la biologia”\, de David Bueno 
 (Edicions de la Universitat de Barcelona)\n\nEl grau d’intel·ligència\
 , creativitat o impulsivitat\, el fet de ser més o menys espiritual o ten
 ir una determinada tendència política són trets que venen donats pel no
 stre genoma\, o es deuen a l’ambient en què hem crescut i on vivim? Qui
 n paper hi té\, en tot plegat\, el cervell? A aquestes preguntes tracta d
 e donar resposta l’investigador David Bueno i Torrens. La tesi que sost
 é aquest llibre és simple\, però de gran repercussió individual i soci
 al: la nostra manera de ser parteix del llegat dels nostres progenitors\, 
 dels gens concrets que ens han donat i de l’educació que hem rebut\, un
 a herència que és biològica i també cultural. Ara bé\, la podem matis
 ar\, i fins a cert punt autodirigir de manera conscient i volguda «hereta
 nt-nos a nosaltres mateixos».\n\nMés informació…\n\n\n\n\n\n 	Premi a
 l millor llibre de ciències socials\, arts i humanitats\n\n“Parlar de s
 a: el llegat mallorquí a la Marina”\, de Joan Lluís Monjo et al. (Pu
 blicacions de la Universitat d’Alacant)\n\nL’expulsió dels moriscos d
 el Regne de València l’any 1609 va suposar un terrible drama humà per 
 a la població expulsada i un autèntic daltabaix per a l’economia valen
 ciana. Per ocupar les terres abandonades\, els senyors territorials van ca
 ptar llauradors de Mallorca\, que van repoblar principalment les comarques
  de la Marina\, la Safor i el Comtat\, tot i que també van arribar a altr
 es\, com la Vall d’Albaida\, la Ribera i la Canal de Navarrés. Aquesta 
 obra col·lectiva\, coordinada per Joan Lluís Monjo\, cerca donar a conè
 ixer el llegat viu de la repoblació mallorquina en la cultura\, la gastro
 nomia i\, molt especialment\, la parla\, d’aquestes comarques valenciane
 s.\n\nMés informació…\n\n\n\n
CATEGORIES:Actes
LOCATION:Moll de la Fusta de Barcelona\, Moll de la Fusta de Barcelona\, Ba
 rcelona\, Espanya
GEO:41.379129;2.180405
X-APPLE-STRUCTURED-LOCATION;VALUE=URI;X-ADDRESS=Moll de la Fusta de Barcelo
 na\, Barcelona\, Espanya;X-APPLE-RADIUS=100;X-TITLE=Moll de la Fusta de Ba
 rcelona:geo:41.379129,2.180405
END:VEVENT
BEGIN:VTIMEZONE
TZID:Europe/Madrid
X-LIC-LOCATION:Europe/Madrid
BEGIN:DAYLIGHT
DTSTART:20220327T030000
TZOFFSETFROM:+0100
TZOFFSETTO:+0200
TZNAME:CEST
END:DAYLIGHT
END:VTIMEZONE
END:VCALENDAR