BEGIN:VCALENDAR
VERSION:2.0
PRODID:-//wp-events-plugin.com//7.2.3.1//EN
TZID:Europe/Madrid
X-WR-TIMEZONE:Europe/Madrid
BEGIN:VEVENT
UID:0-323@vives.org
DTSTART;TZID=Europe/Madrid:20240312T103000
DTEND;TZID=Europe/Madrid:20240312T123000
DTSTAMP:20240228T082651Z
URL:https://www.vives.org/esdeveniments/taller-comunicacio-eficac-i-creati
 va-3/
SUMMARY:Taller Comunicació Eficaç i Creativa
DESCRIPTION:El taller s’adreça als participants a la Lliga de Debat Sèn
 ior 2024.\n\nConsulta el programa i el formulari d'inscripcions.
LOCATION:Telepresencial\, Activitat no presencial\, Telepresencial\, 
X-APPLE-STRUCTURED-LOCATION;VALUE=URI;X-ADDRESS=Activitat no presencial\, T
 elepresencial\, ;X-APPLE-RADIUS=100;X-TITLE=Telepresencial:geo:0,0
END:VEVENT
BEGIN:VTIMEZONE
TZID:Europe/Madrid
X-LIC-LOCATION:Europe/Madrid
BEGIN:STANDARD
DTSTART:20231029T020000
TZOFFSETFROM:+0200
TZOFFSETTO:+0100
TZNAME:CET
END:STANDARD
END:VTIMEZONE
END:VCALENDAR