BEGIN:VCALENDAR
VERSION:2.0
PRODID:-//wp-events-plugin.com//7.2.3.1//EN
TZID:Europe/Madrid
X-WR-TIMEZONE:Europe/Madrid
BEGIN:VEVENT
UID:0-204@vives.org
DTSTART;TZID=Europe/Madrid:20211211T100000
DTEND;TZID=Europe/Madrid:20211211T100000
DTSTAMP:20211119T102010Z
URL:https://www.vives.org/esdeveniments/taller-comunicacio-eficac-i-creati
 va/
SUMMARY:Taller "Comunicació eficaç i creativa"
DESCRIPTION:Taller adreçat als capitans dels equips participants a la Llig
 a de Debat de Secundària i Batxillerat\, per oferir recrsos comunicatius\
 , estratègies d'oratòria i eines creatives per preparar als equips.\n\nL
 a formació serà impartida en format telepresencial per Fani Grande\, gui
 onista\, bloquera\, escriptora i professora de comunicació eficaç\, a m
 és de jutgessa i cap de jutges d'edicions anteriors de la competició.\n\
 nConsulteu el programa.
CATEGORIES:Activitats formatives,Fòrum Vives
LOCATION:Telepresencial\, Activitat no presencial\, Telepresencial\, 
X-APPLE-STRUCTURED-LOCATION;VALUE=URI;X-ADDRESS=Activitat no presencial\, T
 elepresencial\, ;X-APPLE-RADIUS=100;X-TITLE=Telepresencial:geo:0,0
END:VEVENT
BEGIN:VTIMEZONE
TZID:Europe/Madrid
X-LIC-LOCATION:Europe/Madrid
BEGIN:STANDARD
DTSTART:20211031T020000
TZOFFSETFROM:+0200
TZOFFSETTO:+0100
TZNAME:CET
END:STANDARD
END:VTIMEZONE
END:VCALENDAR