BEGIN:VCALENDAR
VERSION:2.0
PRODID:-//wp-events-plugin.com//7.2.3.1//EN
TZID:Europe/Madrid
X-WR-TIMEZONE:Europe/Madrid
BEGIN:VEVENT
UID:0-274@vives.org
DTSTART;TZID=Europe/Madrid;VALUE=DATE:20230324
DTEND;TZID=Europe/Madrid;VALUE=DATE:20230327
DTSTAMP:20231129T114115Z
URL:https://www.vives.org/esdeveniments/xxi-trobada-del-voluntariat-lingui
 stic-universitari/
SUMMARY:XXI Trobada del Voluntariat Lingüístic Universitari
DESCRIPTION:La Xarxa Vives d’Universitats\, per mitjà de la Universitat 
 Politècnica de València i la Universitat de València\, organitza la Tro
 bada de primavera del Voluntariat Lingüístic Universitari\, en el marc d
 e la Jornada de Sociolingüística d’Alcoi\, per impulsar la participaci
 ó dels voluntaris lingüístics en aquesta jornada de debat sobre l’ús
  del valencià i alhora potenciar la formació i les relacions interuniver
 sitàries durant tot el curs acadèmic.\n\nConsulta el programa
CATEGORIES:Fòrum Vives
LOCATION:Universitat Politècnica de València. Campus d'Alcoi\, Plaça Fer
 rándiz i Carbonell s/n\, Alcoi \, Alacant \, 03801 \, Alcoià \, Espanya
GEO:38.6947779;-0.4759713999999349
X-APPLE-STRUCTURED-LOCATION;VALUE=URI;X-ADDRESS=Plaça Ferrándiz i Carbone
 ll s/n\, Alcoi \, Alacant \, 03801 \, Alcoià \, Espanya;X-APPLE-RADIUS=10
 0;X-TITLE=Universitat Politècnica de València. Campus d'Alcoi:geo:38.694
 7779,-0.4759713999999349
END:VEVENT
BEGIN:VTIMEZONE
TZID:Europe/Madrid
X-LIC-LOCATION:Europe/Madrid
BEGIN:STANDARD
DTSTART:20221030T020000
TZOFFSETFROM:+0200
TZOFFSETTO:+0100
TZNAME:CET
END:STANDARD
BEGIN:DAYLIGHT
DTSTART:20230326T030000
TZOFFSETFROM:+0100
TZOFFSETTO:+0200
TZNAME:CEST
END:DAYLIGHT
END:VTIMEZONE
END:VCALENDAR